BEGIN:VCALENDAR
VERSION:2.0
PRODID:-//Mundo Fetén - ECPv6.15.19//NONSGML v1.0//EN
CALSCALE:GREGORIAN
METHOD:PUBLISH
X-ORIGINAL-URL:https://mundofeten.com
X-WR-CALDESC:Eventos para Mundo Fetén
REFRESH-INTERVAL;VALUE=DURATION:PT1H
X-Robots-Tag:noindex
X-PUBLISHED-TTL:PT1H
BEGIN:VTIMEZONE
TZID:UTC
BEGIN:STANDARD
TZOFFSETFROM:+0000
TZOFFSETTO:+0000
TZNAME:UTC
DTSTART:20240101T000000
END:STANDARD
END:VTIMEZONE
BEGIN:VTIMEZONE
TZID:Europe/Madrid
BEGIN:DAYLIGHT
TZOFFSETFROM:+0100
TZOFFSETTO:+0200
TZNAME:CEST
DTSTART:20240331T010000
END:DAYLIGHT
BEGIN:STANDARD
TZOFFSETFROM:+0200
TZOFFSETTO:+0100
TZNAME:CET
DTSTART:20241027T010000
END:STANDARD
BEGIN:DAYLIGHT
TZOFFSETFROM:+0100
TZOFFSETTO:+0200
TZNAME:CEST
DTSTART:20250330T010000
END:DAYLIGHT
BEGIN:STANDARD
TZOFFSETFROM:+0200
TZOFFSETTO:+0100
TZNAME:CET
DTSTART:20251026T010000
END:STANDARD
BEGIN:DAYLIGHT
TZOFFSETFROM:+0100
TZOFFSETTO:+0200
TZNAME:CEST
DTSTART:20260329T010000
END:DAYLIGHT
BEGIN:STANDARD
TZOFFSETFROM:+0200
TZOFFSETTO:+0100
TZNAME:CET
DTSTART:20261025T010000
END:STANDARD
BEGIN:DAYLIGHT
TZOFFSETFROM:+0100
TZOFFSETTO:+0200
TZNAME:CEST
DTSTART:20270328T010000
END:DAYLIGHT
BEGIN:STANDARD
TZOFFSETFROM:+0200
TZOFFSETTO:+0100
TZNAME:CET
DTSTART:20271031T010000
END:STANDARD
END:VTIMEZONE
BEGIN:VEVENT
DTSTART;VALUE=DATE:20250424
DTEND;VALUE=DATE:20260501
DTSTAMP:20260425T175318
CREATED:20250907T120145Z
LAST-MODIFIED:20251009T154353Z
UID:21132-1745452800-1777593599@mundofeten.com
SUMMARY:Habitar España
DESCRIPTION:La Casa de la Arquitectura propone un viaje por cincuenta años de vivienda en España (1975–2025) a través de 100 proyectos residenciales\, de los que 85 se muestran en maquetas que permiten entender cómo ha cambiado nuestra forma de habitar. \nComisariada por Fernanda Canales y diseñada por Clara Solà-Morales\, la exposición recorre década a década la evolución social\, política y ambiental de cada comunidad autónoma\, incluidas Ceuta y Melilla. El montaje —una gran mesa suspendida— conecta distintas tipologías y generaciones\, desde viviendas mínimas hasta proyectos utópicos\, mostrando la riqueza creativa y las transformaciones de la arquitectura residencial en nuestro país.
URL:https://mundofeten.com/evento/habitar-espana/
LOCATION:La Casa de la Arquitectura\, Paseo de la Castellana\, 67\, Madrid\, Madrid\, 28046\, Spain
CATEGORIES:Exposiciones,Planes Madrid
ATTACH;FMTTYPE=image/png:https://mundofeten.com/wp-content/uploads/2025/09/mundo-feten_exposiciones_evento_Habitar-espana_la-casa-de-la-arquitectura_Madrid_espana.png
END:VEVENT
BEGIN:VEVENT
DTSTART;VALUE=DATE:20250627
DTEND;VALUE=DATE:20251201
DTSTAMP:20260425T175318
CREATED:20250907T112104Z
LAST-MODIFIED:20251009T154057Z
UID:21112-1750982400-1764547199@mundofeten.com
SUMMARY:Chorus in Rememory of Flight. Julianknxx
DESCRIPTION:La Casa Encendida abre sus salas a la instalación cinematográfica multicanal “Chorus in Rememory of Flight”\, la primera muestra en España del artista sierraleonés Julianknxx.  \nEl proyecto recoge un viaje de 4.000 kilómetros por nueve ciudades europeas con legado colonial (Barcelona\, Berlín\, Hamburgo\, Lisboa\, Londres\, Ámsterdam\, Róterdam\, Amberes y Marsella)\, reuniendo testimonios\, coros y performances de comunidades negras que conforman un coro colectivo como forma de resistencia cultural.  \nInspirado en la tradición oral africana y en el relato compartido del estribillo “somos lo que queda de nosotros”\,  la exposición combina cine\, memoria e identidad\, y se complementa con una sala de lectura dedicada a autores africanos y de la diáspora. Una experiencia poética y visual que indaga en la pertenencia\, la historia y la construcción comunitaria.
URL:https://mundofeten.com/evento/chorus-in-rememory-of-flight-julianknxx/
LOCATION:La Casa Encendida\, Rda. de Valencia\, 2\, Madrid\, Madrid\, 28012\, Spain
CATEGORIES:Exposiciones,Planes Madrid
ATTACH;FMTTYPE=image/png:https://mundofeten.com/wp-content/uploads/2025/09/mundo-feten_exposiciones_evento_Julianknxx_La-Casa-Encendida_Madrid_espana.png
END:VEVENT
BEGIN:VEVENT
DTSTART;VALUE=DATE:20250630
DTEND;VALUE=DATE:20260112
DTSTAMP:20260425T175318
CREATED:20250907T113221Z
LAST-MODIFIED:20251009T154009Z
UID:21117-1751241600-1768175999@mundofeten.com
SUMMARY:El pintor Antonio Muñoz Degrain (1840-1924)
DESCRIPTION:La sala 60 del edificio Villanueva del Museo Nacional del Prado alberga una selección esencial de diez pinturas del artista valenciano Antonio Muñoz Degrain (1840-1924)\, entre las que se incluyen cinco obras recientemente restauradas\, destacando el icónico ‘Paisaje del Pardo al disiparse la niebla’ (1866).  \nLa muestra ilustra su variedad temática\, su habilidad técnica y su visión estética\, abarcando paisajes evoca­tivos\, escenas históricas\, literarias y religiosas\, junto a documentos como su discurso sobre “la sinceridad en el arte” y un retrato fotográfico en vitrina. Esta exhibición forma parte del programa del Prado para revitalizar su colección de pintura del siglo XIX mediante muestras monográficas que profundizan en figuras singulares de la época.
URL:https://mundofeten.com/evento/el-pintor-antonio-munoz-degrain-1840-1924/
LOCATION:Museo del Prado\, Paseo del Prado\, s/n\, Madrid\, Madrid\, 28014\, Spain
CATEGORIES:Exposiciones,Planes Madrid
ATTACH;FMTTYPE=image/png:https://mundofeten.com/wp-content/uploads/2025/09/mundo-feten_exposiciones_evento_Antonio-Munoz-Degrain_Museo-del-Prado_Madrid_espana-1.png
END:VEVENT
BEGIN:VEVENT
DTSTART;VALUE=DATE:20250910
DTEND;VALUE=DATE:20260112
DTSTAMP:20260425T175318
CREATED:20250911T112242Z
LAST-MODIFIED:20251009T153521Z
UID:21832-1757462400-1768175999@mundofeten.com
SUMMARY:Alfredo Alcain. Una retrospectiva
DESCRIPTION:La Sala Alcalá 31 de la Comunidad de Madrid acoge “Una retrospectiva”\, la gran muestra dedicada a Alfredo Alcain que podrá verse del 10 de septiembre de 2025 al 11 de enero de 2026. Con más de 150 obras entre pintura\, dibujo\, escultura\, obra gráfica y un audiovisual\, la exposición recorre la trayectoria del artista desde finales de los años sesenta hasta hoy\, resaltando series como Cèzanne pétit-point y naturalezas muertas que oscilan entre lo clásico\, lo abstracto y lo relievado. Comisariada por Mariano Navarro\, la muestra invita a descubrir el estilo singular de Alcain: intenso diálogo entre cultura popular y alta cultura\, mirada crítica y humor sutil.
URL:https://mundofeten.com/evento/alfredo-alcain-una-retrospectiva/
LOCATION:Sala Alcala 31\, Calle Alcalá\, 31\, Madrid\, Madrid\, 28014\, Spain
CATEGORIES:Exposiciones,Planes Madrid
ATTACH;FMTTYPE=image/jpeg:https://mundofeten.com/wp-content/uploads/2025/09/AlcainMeseguer9-1068x793-1.jpg
END:VEVENT
BEGIN:VEVENT
DTSTART;VALUE=DATE:20250910
DTEND;VALUE=DATE:20260111
DTSTAMP:20260425T175318
CREATED:20250903T052704Z
LAST-MODIFIED:20251009T153556Z
UID:20614-1757462400-1768089599@mundofeten.com
SUMMARY:Leica. Un siglo de fotografía 1925-2025
DESCRIPTION:El emblemático Fernán Gómez Centro Cultural de la Villa celebra el centenario de la cámara Leica con una exposición gratuita que reúne 174 fotografías icónicas de autores como Bruce Davidson\, Elliott Erwitt\, Sebastião Salgado\, Steve McCurry y Alberto García-Alix\, entre otros\, junto a materiales históricos y cámaras clásicas del Museo Ernst Leitz de Wetzlar.  \nEl recorrido visual aborda géneros tan diversos como la fotografía de calle\, el retrato\, el paisaje urbano\, el documentalismo y la naturaleza\, destacando el legado de Leica como pionera de la fotografía de 35 mm y su papel clave en la democratización de la imagen.
URL:https://mundofeten.com/evento/leica-un-siglo-de-fotografia-1925-2025/
LOCATION:Fernán Gómez Centro Cultural de la Villa\, Plaza de Colón\, 4\, Madrid\, Madrid\, 28001\, Spain
CATEGORIES:Exposiciones
ATTACH;FMTTYPE=image/png:https://mundofeten.com/wp-content/uploads/2025/09/mundo-feten_exposiciones_evento_Leica-un-siglo-de-fotografia_Fernan-Gomez-Madrid_espana.png
END:VEVENT
BEGIN:VEVENT
DTSTART;VALUE=DATE:20250911
DTEND;VALUE=DATE:20260112
DTSTAMP:20260425T175318
CREATED:20250914T121310Z
LAST-MODIFIED:20251009T153204Z
UID:21956-1757548800-1768175999@mundofeten.com
SUMMARY:Nuevos imaginarios
DESCRIPTION:La exposición Nuevos Imaginarios reúne a cineastas de reconocimiento internacional como Helena Girón & Samuel Delgado\, Isaki Lacuesta\, Oliver Laxe\, Laida Lertxundi\, Lois Patiño y Susana de Sousa Dias. Adaptada a la Sala de Bóvedas desde su primera edición en el CGAC de Santiago de Compostela\, la muestra explora la confluencia entre cine y arte contemporáneo\, investigando la imagen\, la imaginación y los límites de las disciplinas. \nLa muestra aborda temáticas como la geopolítica\, el poscolonialismo\, la mitología y la multiculturalidad\, ofreciendo un recorrido inmersivo que invita a redescubrir lo conocido y proyectar posibles imaginarios futuros.
URL:https://mundofeten.com/evento/nuevos-imaginarios/
LOCATION:Centro de Cultura Contemporánea Conde Duque\, Calle del Conde Duque\, 11\, Madrid\, Madrid\, 28015\, Spain
CATEGORIES:Exposiciones,Planes Madrid
ATTACH;FMTTYPE=image/png:https://mundofeten.com/wp-content/uploads/2025/09/mundo-feten_evento_planes-madrid_exposiciones_Nuevos-Imaginarios_Conde-Duque_Madrid_espana-1.png
END:VEVENT
BEGIN:VEVENT
DTSTART;VALUE=DATE:20250912
DTEND;VALUE=DATE:20251124
DTSTAMP:20260425T175318
CREATED:20250911T113150Z
LAST-MODIFIED:20251009T153139Z
UID:21837-1757635200-1763942399@mundofeten.com
SUMMARY:Los cafés literarios de Madrid. El Café de Pombo
DESCRIPTION:La exposición “Los cafés literarios de Madrid. El Café de Pombo”\, en el Espacio Cultural Serrería Belga\, revive la edad dorada de los cafés madrileños como foros de pensamiento y creación entre los siglos XVIII y XX. A través de actas inéditas\, fotografías\, dibujos\, objetos de época y un proyecto fotográfico contemporáneo\, la muestra recrea la célebre tertulia de Ramón Gómez de la Serna\, “La sagrada cripta de Pombo”\, y ofrece una mirada renovada al legado cultural y social de este mítico espacio.
URL:https://mundofeten.com/evento/los-cafes-literarios-de-madrid-el-cafe-de-pombo/
LOCATION:Espacio Cultural Serreria Belga\, Calle de la Alameda\, 15\, Madrid\, Madrid\, 28014\, Spain
CATEGORIES:Exposiciones,Planes Madrid
ATTACH;FMTTYPE=image/png:https://mundofeten.com/wp-content/uploads/2025/09/mundo-feten_evento_exposiciones_planes-madrid_los-cafes-literarios-de-madrid_Serreria-Belga_Madrid_Espana.png
END:VEVENT
BEGIN:VEVENT
DTSTART;VALUE=DATE:20250917
DTEND;VALUE=DATE:20260413
DTSTAMP:20260425T175318
CREATED:20250911T115621Z
LAST-MODIFIED:20251009T152849Z
UID:21842-1758067200-1776038399@mundofeten.com
SUMMARY:Desenfocado. Otra visión del arte
DESCRIPTION:La exposición explora la evolución estética del desenfoque en la historia del arte\, desde el Impresionismo hasta la pintura abstracta y las actuales instalaciones inmersivas. A través de secciones que combinan pintura\, fotografía\, vídeo e instalación\, la muestra reúne obras de grandes artistas como Claude Monet\, Mark Rothko\, Gerhard Richter\, Alberto Giacometti\, Bill Viola\, Soledad Sevilla o Christian Boltanski\, entre otros\, ofreciendo una nueva lectura sobre el efecto borroso como decisión estética y su impacto en el arte contemporáneo.
URL:https://mundofeten.com/evento/desenfocado-otra-vision-del-arte/
LOCATION:CaixaForum Madrid\, Paseo del Prado\, 36\, Madrid\, Madrid\, 28014\, Spain
CATEGORIES:Exposiciones,Planes Madrid
ATTACH;FMTTYPE=image/png:https://mundofeten.com/wp-content/uploads/2025/09/mundo-feten_evento_exposiciones_desenfocado_Caixa-Forum_Madrid_Espana.png
END:VEVENT
BEGIN:VEVENT
DTSTART;VALUE=DATE:20250919
DTEND;VALUE=DATE:20260119
DTSTAMP:20260425T175318
CREATED:20250907T115038Z
LAST-MODIFIED:20251009T152823Z
UID:21126-1758240000-1768780799@mundofeten.com
SUMMARY:Raimundo de Madrazo
DESCRIPTION:La Fundación MAPFRE presenta la primera gran retrospectiva en España dedicada al pintor realista Raimundo de Madrazo (1841–1920)\, coproducida junto al Meadows Museum de Dallas. La muestra reúne una selección representativa de obras de género\, retrato y escenas de salón que destacan por su elegancia cromática y precisión técnica\, reflejo de su éxito internacional en la alta sociedad parisina y americana del siglo XIX. Comisariada por Amaya Alzaga\, la exposición redescubre a Madrazo como uno de los retratistas más refinados de la Belle Époque\, contextualizando su obra en el coleccionismo europeo\, el mercado artístico y su pertenencia a la famosa saga pictórica de los Madrazo.
URL:https://mundofeten.com/evento/raimundo-de-madrazo/
LOCATION:Fundación MAPFRE\, Paseo de Recoletos\, 23\, Madrid\, Madrid\, 28004\, Spain
CATEGORIES:Exposiciones,Planes Madrid
ATTACH;FMTTYPE=image/png:https://mundofeten.com/wp-content/uploads/2025/09/mundo-feten_exposiciones_evento_Raimundo-de-Madrazo_fundacion-mapfre_Madrid_espana-1.png
END:VEVENT
BEGIN:VEVENT
DTSTART;VALUE=DATE:20250919
DTEND;VALUE=DATE:20260119
DTSTAMP:20260425T175318
CREATED:20250921T193028Z
LAST-MODIFIED:20251009T152750Z
UID:22175-1758240000-1768780799@mundofeten.com
SUMMARY:Edward Weston. La materia de las formas
DESCRIPTION:Una amplia retrospectiva dedicada a uno de los pioneros de la fotografía moderna. La muestra reúne unas doscientas obras en blanco y negro que recorren las distintas etapas creativas de Weston\, desde sus icónicas naturalezas muertas y desnudos hasta paisajes y retratos. Comisariada por Sergio Mah y organizada con el apoyo del Center for Creative Photography (Universidad de Arizona\, Tucson)\, la exposición ofrece una mirada europea al legado norteamericano\, destacando el papel de Weston en la consolidación de la fotografía como arte en el contexto de la modernidad.
URL:https://mundofeten.com/evento/edward-weston-la-materia-de-las-formas/
LOCATION:Fundación MAPFRE\, Paseo de Recoletos\, 23\, Madrid\, Madrid\, 28004\, Spain
CATEGORIES:Exposiciones,Planes Madrid
ATTACH;FMTTYPE=image/png:https://mundofeten.com/wp-content/uploads/2025/09/mundo-feten_exposiciones_evento_Edward-Weston_Fundacion-MAPFRE_Madrid_espana.png
END:VEVENT
BEGIN:VEVENT
DTSTART;VALUE=DATE:20250924
DTEND;VALUE=DATE:20260112
DTSTAMP:20260425T175318
CREATED:20250926T131213Z
LAST-MODIFIED:20251009T152637Z
UID:22215-1758672000-1768175999@mundofeten.com
SUMMARY:14 millones de ojos. Colección\, fotografía\, público
DESCRIPTION:La Sala Canal de Isabel II presenta “14 millones de ojos. Colección\, fotografía\, público”\, una exposición que reúne 175 fotografías\, 15 fotolibros y material de archivo de la colección fotográfica de la Comunidad de Madrid (Museo CA2M). Con obras de más de un centenar de autores como Ramón Masats\, Alberto García-Alix\, Cristina García Rodero o Bleda y Rosa\, la muestra recorre cuatro ejes temáticos —Madrid\, la fotografía española en los noventa\, el cuestionamiento del medio y los cuerpos— y rinde homenaje a cuatro décadas de labor expositiva y patrimonial que han consolidado a la Sala Canal como un referente nacional en fotografía.
URL:https://mundofeten.com/evento/14-millones-de-ojos-coleccion-fotografia-publico/
LOCATION:Sala Canal de Isabel II\, Calle de Santa Engracia\, 125\, Madrid\, Madrid\, 28003\, Spain
CATEGORIES:Exposiciones,Planes Madrid
ATTACH;FMTTYPE=image/png:https://mundofeten.com/wp-content/uploads/2025/09/mundo-feten_evento_planes-madrid_exposiciones_14-Millones_Sala-Canal_Madrid_espana.png
END:VEVENT
BEGIN:VEVENT
DTSTART;VALUE=DATE:20250925
DTEND;VALUE=DATE:20260201
DTSTAMP:20260425T175318
CREATED:20250926T133912Z
LAST-MODIFIED:20251009T152607Z
UID:22223-1758758400-1769903999@mundofeten.com
SUMMARY:Del álif a la zain. Arte caligráfico en movimiento
DESCRIPTION:La caligrafía árabe se reinventa en “Del álif a la zain”\, una exposición colectiva comisariada por Toufik Douib en Casa Árabe. Diez artistas procedentes de Oriente Medio\, el Norte de África y la diáspora exploran la riqueza y la versatilidad del árabe contemporáneo\, llevando la escritura más allá de la tradición para transformarla en tipografías radicales\, estéticas híbridas y gestos de resistencia cultural. \nLas obras dialogan con cuestiones universales —identidad\, política\, patrimonio y memoria—\, mostrando cómo las letras se convierten en manifiestos sociales y símbolos de creación en constante evolución. La muestra revela así la fuerza del árabe como herramienta artística viva: un lenguaje que enlaza con su herencia\, pero que también abre nuevos caminos de experimentación y diálogo en el arte actual. \n 
URL:https://mundofeten.com/evento/del-alif-a-la-zain-arte-caligrafico-en-movimiento/
LOCATION:Casa Árabe\, Calle de Alcalá\, 62\, Madrid\, Madrid\, 28009\, Spain
CATEGORIES:Exposiciones,Planes Madrid
ATTACH;FMTTYPE=image/png:https://mundofeten.com/wp-content/uploads/2025/09/mundo-feten_evento_planes-madrid_exposiciones_del-alif-a-la-zain_Casa-Arabe_Madrid_espana.png
END:VEVENT
END:VCALENDAR